BEGIN:VCALENDAR
VERSION:2.0
PRODID:-//ChamberMaster//Event Calendar 2.0//EN
METHOD:PUBLISH
X-PUBLISHED-TTL:P1H
REFRESH-INTERVAL:P1H
CALSCALE:GREGORIAN
BEGIN:VTIMEZONE
TZID:America/New_York
BEGIN:DAYLIGHT
RRULE:FREQ=YEARLY;BYMONTH=3;BYDAY=2SU
DTSTART:20070101T000000
TZOFFSETFROM:-0500
TZOFFSETTO:-0400
TZNAME:Eastern Daylight Time
END:DAYLIGHT
BEGIN:STANDARD
RRULE:FREQ=YEARLY;BYMONTH=11;BYDAY=1SU
DTSTART:20070101T000000
TZOFFSETFROM:-0400
TZOFFSETTO:-0500
TZNAME:Eastern Standard Time
END:STANDARD
END:VTIMEZONE
BEGIN:VEVENT
DTSTART;TZID=America/New_York:20260625T120000
DTEND;TZID=America/New_York:20260625T130000
X-MICROSOFT-CDO-ALLDAYEVENT:FALSE
SUMMARY:YP: CIVICS 101- The Voting Process
DESCRIPTION:Join us to hear from elections supervisor Akyn Beck as she walks through how the election process works and why participating in every election matters. Buddy passes are not available for this event. Lunch will be provided. Deadline to register is June 19th.This event is for young professional members only. If you would like to become a young professional member\, click here: https://www.romega.com/young-professionals/
X-ALT-DESC;FMTTYPE=text/html:<!DOCTYPE html><html><head><title></title></head><body aria-disabled="false"><p>Join us to hear from elections supervisor Akyn Beck as she walks through how the election process works and why participating in every election matters.&nbsp\;</p><p>Buddy passes are not available for this event.&nbsp\;</p><p>Lunch will be provided.&nbsp\;</p><p>Deadline to register is June 19th.</p><p>This event is for young professional members only. If you would like to become a young professional member\, click here: https://www.romega.com/young-professionals/</p></body></html>
LOCATION:1 Riverside Pkwy Rome GA 30161-3042
UID:e.3734.1447218
SEQUENCE:3
DTSTAMP:20260420T224748Z
URL:https://business.romega.com/events/Details/yp-civics-101-the-voting-process-1714071?sourceTypeId=Hub
END:VEVENT
END:VCALENDAR
